BEGIN:VCALENDAR
VERSION:2.0
PRODID:-//One World Montessori - ECPv6.15.20//NONSGML v1.0//EN
CALSCALE:GREGORIAN
METHOD:PUBLISH
X-WR-CALNAME:One World Montessori
X-ORIGINAL-URL:https://www.oneworldnc.com
X-WR-CALDESC:Events for One World Montessori
REFRESH-INTERVAL;VALUE=DURATION:PT1H
X-Robots-Tag:noindex
X-PUBLISHED-TTL:PT1H
BEGIN:VTIMEZONE
TZID:America/New_York
BEGIN:DAYLIGHT
TZOFFSETFROM:-0500
TZOFFSETTO:-0400
TZNAME:EDT
DTSTART:20190310T070000
END:DAYLIGHT
BEGIN:STANDARD
TZOFFSETFROM:-0400
TZOFFSETTO:-0500
TZNAME:EST
DTSTART:20191103T060000
END:STANDARD
BEGIN:DAYLIGHT
TZOFFSETFROM:-0500
TZOFFSETTO:-0400
TZNAME:EDT
DTSTART:20200308T070000
END:DAYLIGHT
BEGIN:STANDARD
TZOFFSETFROM:-0400
TZOFFSETTO:-0500
TZNAME:EST
DTSTART:20201101T060000
END:STANDARD
BEGIN:DAYLIGHT
TZOFFSETFROM:-0500
TZOFFSETTO:-0400
TZNAME:EDT
DTSTART:20210314T070000
END:DAYLIGHT
BEGIN:STANDARD
TZOFFSETFROM:-0400
TZOFFSETTO:-0500
TZNAME:EST
DTSTART:20211107T060000
END:STANDARD
BEGIN:DAYLIGHT
TZOFFSETFROM:-0500
TZOFFSETTO:-0400
TZNAME:EDT
DTSTART:20220313T070000
END:DAYLIGHT
BEGIN:STANDARD
TZOFFSETFROM:-0400
TZOFFSETTO:-0500
TZNAME:EST
DTSTART:20221106T060000
END:STANDARD
BEGIN:DAYLIGHT
TZOFFSETFROM:-0500
TZOFFSETTO:-0400
TZNAME:EDT
DTSTART:20230312T070000
END:DAYLIGHT
BEGIN:STANDARD
TZOFFSETFROM:-0400
TZOFFSETTO:-0500
TZNAME:EST
DTSTART:20231105T060000
END:STANDARD
BEGIN:DAYLIGHT
TZOFFSETFROM:-0500
TZOFFSETTO:-0400
TZNAME:EDT
DTSTART:20240310T070000
END:DAYLIGHT
BEGIN:STANDARD
TZOFFSETFROM:-0400
TZOFFSETTO:-0500
TZNAME:EST
DTSTART:20241103T060000
END:STANDARD
BEGIN:DAYLIGHT
TZOFFSETFROM:-0500
TZOFFSETTO:-0400
TZNAME:EDT
DTSTART:20250309T070000
END:DAYLIGHT
BEGIN:STANDARD
TZOFFSETFROM:-0400
TZOFFSETTO:-0500
TZNAME:EST
DTSTART:20251102T060000
END:STANDARD
BEGIN:DAYLIGHT
TZOFFSETFROM:-0500
TZOFFSETTO:-0400
TZNAME:EDT
DTSTART:20260308T070000
END:DAYLIGHT
BEGIN:STANDARD
TZOFFSETFROM:-0400
TZOFFSETTO:-0500
TZNAME:EST
DTSTART:20261101T060000
END:STANDARD
BEGIN:DAYLIGHT
TZOFFSETFROM:-0500
TZOFFSETTO:-0400
TZNAME:EDT
DTSTART:20270314T070000
END:DAYLIGHT
BEGIN:STANDARD
TZOFFSETFROM:-0400
TZOFFSETTO:-0500
TZNAME:EST
DTSTART:20271107T060000
END:STANDARD
END:VTIMEZONE
BEGIN:VEVENT
DTSTART;VALUE=DATE:20260313
DTEND;VALUE=DATE:20260314
DTSTAMP:20260421T070538
CREATED:20230516T153522Z
LAST-MODIFIED:20250730T010429Z
UID:1368-1773360000-1773446399@www.oneworldnc.com
SUMMARY:Teacher Workday
DESCRIPTION:
URL:https://www.oneworldnc.com/event/teacher-workday-13/
CATEGORIES:Teacher Workday
END:VEVENT
BEGIN:VEVENT
DTSTART;VALUE=DATE:20250912
DTEND;VALUE=DATE:20250913
DTSTAMP:20260421T070538
CREATED:20250707T163213Z
LAST-MODIFIED:20250707T163213Z
UID:1725-1757635200-1757721599@www.oneworldnc.com
SUMMARY:Teacher Workday
DESCRIPTION:
URL:https://www.oneworldnc.com/event/teacher-workday-16/
CATEGORIES:Teacher Workday
END:VEVENT
BEGIN:VEVENT
DTSTART;VALUE=DATE:20250818
DTEND;VALUE=DATE:20250822
DTSTAMP:20260421T070538
CREATED:20250707T162853Z
LAST-MODIFIED:20250707T162853Z
UID:1710-1755475200-1755820799@www.oneworldnc.com
SUMMARY:Teacher Workdays
DESCRIPTION:
URL:https://www.oneworldnc.com/event/teacher-workdays-4/
CATEGORIES:Teacher Workday
END:VEVENT
BEGIN:VEVENT
DTSTART;VALUE=DATE:20250519
DTEND;VALUE=DATE:20250523
DTSTAMP:20260421T070538
CREATED:20230516T153734Z
LAST-MODIFIED:20240706T233649Z
UID:1376-1747612800-1747958399@www.oneworldnc.com
SUMMARY:TWD / Test Make-up
DESCRIPTION:
URL:https://www.oneworldnc.com/event/twd-test-make-up/
CATEGORIES:Teacher Workday,Testing
END:VEVENT
BEGIN:VEVENT
DTSTART;VALUE=DATE:20240913
DTEND;VALUE=DATE:20240914
DTSTAMP:20260421T070538
CREATED:20230516T152700Z
LAST-MODIFIED:20240706T235505Z
UID:1336-1726185600-1726271999@www.oneworldnc.com
SUMMARY:Teacher Workday
DESCRIPTION:
URL:https://www.oneworldnc.com/event/teacher-workday-11/
CATEGORIES:Teacher Workday
END:VEVENT
BEGIN:VEVENT
DTSTART;VALUE=DATE:20240812
DTEND;VALUE=DATE:20240816
DTSTAMP:20260421T070538
CREATED:20240704T153852Z
LAST-MODIFIED:20240707T001049Z
UID:1382-1723420800-1723766399@www.oneworldnc.com
SUMMARY:Teacher Workday
DESCRIPTION:
URL:https://www.oneworldnc.com/event/teacher-workday-14/
CATEGORIES:Teacher Workday
END:VEVENT
BEGIN:VEVENT
DTSTART;VALUE=DATE:20230809
DTEND;VALUE=DATE:20230817
DTSTAMP:20260421T070538
CREATED:20230516T152046Z
LAST-MODIFIED:20230516T152046Z
UID:1320-1691539200-1692230399@www.oneworldnc.com
SUMMARY:Teacher Workdays
DESCRIPTION:
URL:https://www.oneworldnc.com/event/teacher-workdays-3/
CATEGORIES:Teacher Workday
END:VEVENT
BEGIN:VEVENT
DTSTART;VALUE=DATE:20230317
DTEND;VALUE=DATE:20230318
DTSTAMP:20260421T070538
CREATED:20210412T181103Z
LAST-MODIFIED:20220726T191434Z
UID:921-1679011200-1679097599@www.oneworldnc.com
SUMMARY:Teacher Workday - PD
DESCRIPTION:
URL:https://www.oneworldnc.com/event/teacher-workday-12/
CATEGORIES:Teacher Workday
END:VEVENT
BEGIN:VEVENT
DTSTART;VALUE=DATE:20230103
DTEND;VALUE=DATE:20230104
DTSTAMP:20260421T070538
CREATED:20210412T180223Z
LAST-MODIFIED:20220726T124217Z
UID:899-1672704000-1672790399@www.oneworldnc.com
SUMMARY:Teacher Workday
DESCRIPTION:
URL:https://www.oneworldnc.com/event/teacher-workday-7/
CATEGORIES:Teacher Workday
END:VEVENT
BEGIN:VEVENT
DTSTART;VALUE=DATE:20220823
DTEND;VALUE=DATE:20220901
DTSTAMP:20260421T070538
CREATED:20210801T181123Z
LAST-MODIFIED:20220726T122948Z
UID:923-1661212800-1661990399@www.oneworldnc.com
SUMMARY:Teacher Workdays
DESCRIPTION:
URL:https://www.oneworldnc.com/event/teacher-workdays-2/
CATEGORIES:Teacher Workday
END:VEVENT
BEGIN:VEVENT
DTSTART;VALUE=DATE:20210811
DTEND;VALUE=DATE:20210818
DTSTAMP:20260421T070538
CREATED:20210412T175616Z
LAST-MODIFIED:20210412T175616Z
UID:871-1628640000-1629244799@www.oneworldnc.com
SUMMARY:Teacher Workdays
DESCRIPTION:
URL:https://www.oneworldnc.com/event/teacher-workdays/
CATEGORIES:Teacher Workday
END:VEVENT
BEGIN:VEVENT
DTSTART;VALUE=DATE:20210603
DTEND;VALUE=DATE:20210607
DTSTAMP:20260421T070538
CREATED:20200828T000744Z
LAST-MODIFIED:20210303T181852Z
UID:751-1622678400-1623023999@www.oneworldnc.com
SUMMARY:Teacher Workday
DESCRIPTION:
URL:https://www.oneworldnc.com/event/teacher-workday-10/
CATEGORIES:Teacher Workday
END:VEVENT
BEGIN:VEVENT
DTSTART;VALUE=DATE:20210507
DTEND;VALUE=DATE:20210508
DTSTAMP:20260421T070538
CREATED:20200828T000340Z
LAST-MODIFIED:20200828T000340Z
UID:745-1620345600-1620431999@www.oneworldnc.com
SUMMARY:Teacher Workday
DESCRIPTION:
URL:https://www.oneworldnc.com/event/teacher-workday-9/
CATEGORIES:No School,Teacher Workday
END:VEVENT
BEGIN:VEVENT
DTSTART;VALUE=DATE:20210305
DTEND;VALUE=DATE:20210310
DTSTAMP:20260421T070538
CREATED:20200828T000220Z
LAST-MODIFIED:20210303T181918Z
UID:741-1614902400-1615334399@www.oneworldnc.com
SUMMARY:Teacher Workday
DESCRIPTION:
URL:https://www.oneworldnc.com/event/teacher-workday-8/
CATEGORIES:No School,Teacher Workday
END:VEVENT
BEGIN:VEVENT
DTSTART;VALUE=DATE:20210111
DTEND;VALUE=DATE:20210113
DTSTAMP:20260421T070538
CREATED:20200827T235945Z
LAST-MODIFIED:20210101T154245Z
UID:733-1610323200-1610495999@www.oneworldnc.com
SUMMARY:Teacher Workday
DESCRIPTION:
URL:https://www.oneworldnc.com/event/teacher-workday-6/
CATEGORIES:Teacher Workday
END:VEVENT
BEGIN:VEVENT
DTSTART;TZID=America/New_York:20201023T080000
DTEND;TZID=America/New_York:20201023T170000
DTSTAMP:20260421T070538
CREATED:20200827T235700Z
LAST-MODIFIED:20200827T235700Z
UID:725-1603440000-1603472400@www.oneworldnc.com
SUMMARY:Parent Conferences
DESCRIPTION:
URL:https://www.oneworldnc.com/event/parent-conferences/
CATEGORIES:No School,Parent Teacher Conference,Teacher Workday
END:VEVENT
BEGIN:VEVENT
DTSTART;VALUE=DATE:20201005
DTEND;VALUE=DATE:20201006
DTSTAMP:20260421T070538
CREATED:20200827T235611Z
LAST-MODIFIED:20200827T235611Z
UID:723-1601856000-1601942399@www.oneworldnc.com
SUMMARY:Teacher Workday
DESCRIPTION:
URL:https://www.oneworldnc.com/event/teacher-workday-5/
CATEGORIES:Teacher Workday
END:VEVENT
BEGIN:VEVENT
DTSTART;VALUE=DATE:20200608
DTEND;VALUE=DATE:20200613
DTSTAMP:20260421T070538
CREATED:20200210T171347Z
LAST-MODIFIED:20200210T171423Z
UID:309-1591574400-1592006399@www.oneworldnc.com
SUMMARY:Teacher Workday
DESCRIPTION:
URL:https://www.oneworldnc.com/event/teacher-workday-4/
CATEGORIES:Teacher Workday
END:VEVENT
BEGIN:VEVENT
DTSTART;VALUE=DATE:20200316
DTEND;VALUE=DATE:20200317
DTSTAMP:20260421T070538
CREATED:20200210T170934Z
LAST-MODIFIED:20200210T171437Z
UID:297-1584316800-1584403199@www.oneworldnc.com
SUMMARY:Teacher Workday
DESCRIPTION:
URL:https://www.oneworldnc.com/event/teacher-workday-3/
CATEGORIES:Teacher Workday
END:VEVENT
BEGIN:VEVENT
DTSTART;VALUE=DATE:20200312
DTEND;VALUE=DATE:20200314
DTSTAMP:20260421T070538
CREATED:20200210T170910Z
LAST-MODIFIED:20200210T171444Z
UID:295-1583971200-1584143999@www.oneworldnc.com
SUMMARY:Teacher Workday
DESCRIPTION:
URL:https://www.oneworldnc.com/event/teacher-workday-2/
CATEGORIES:Teacher Workday
END:VEVENT
END:VCALENDAR